BEGIN:VCALENDAR
VERSION:2.0
PRODID:-//El Salvador Kids Guide - ECPv6.15.20//NONSGML v1.0//EN
CALSCALE:GREGORIAN
METHOD:PUBLISH
X-WR-CALNAME:El Salvador Kids Guide
X-ORIGINAL-URL:https://elsalvadorkidsguide.com
X-WR-CALDESC:Events for El Salvador Kids Guide
REFRESH-INTERVAL;VALUE=DURATION:PT1H
X-Robots-Tag:noindex
X-PUBLISHED-TTL:PT1H
BEGIN:VTIMEZONE
TZID:America/El_Salvador
BEGIN:STANDARD
TZOFFSETFROM:-0600
TZOFFSETTO:-0600
TZNAME:CST
DTSTART:20250101T000000
END:STANDARD
END:VTIMEZONE
BEGIN:VEVENT
DTSTART;TZID=America/El_Salvador:20260417T080000
DTEND;TZID=America/El_Salvador:20260417T170000
DTSTAMP:20260420T052315
CREATED:20260417T151950Z
LAST-MODIFIED:20260417T151950Z
UID:1470-1776412800-1776445200@elsalvadorkidsguide.com
SUMMARY:Test
DESCRIPTION:este evento es una prueba
URL:https://elsalvadorkidsguide.com/event/test/
LOCATION:En casa\, Santa tecla\, El Salvador
CATEGORIES:eventos
END:VEVENT
END:VCALENDAR